BEGIN:VCALENDAR
VERSION:2.0
PRODID:-//ChamberMaster//Event Calendar 2.0//EN
METHOD:PUBLISH
X-PUBLISHED-TTL:P3D
REFRESH-INTERVAL:P3D
CALSCALE:GREGORIAN
BEGIN:VEVENT
DTSTART:20150404T160000Z
DTEND:20150404T190000Z
X-MICROSOFT-CDO-ALLDAYEVENT:FALSE
SUMMARY:11th Annual Easter Carnival
DESCRIPTION:ON SATURDAY\, APRIL 4TH\, BRING THE WHOLE FAMILY TO A FREE EASTER CARNIVAL WITH GAMES\, CRAFTS\, FACEPAINTING\, CAKE WALK AND MORE FROM 9 AM. ? NOON. AND DON?T MISS OUT ON BREAKFAST WITH ?ALL YOU CAN EAT PANCAKES? PLUS BACON OR SAUSAGE\, EGGS\, ORANGE JUICE\, AND COFFEE FOR ONLY $5.00 FROM 9 ? 11:30 A.M. IT?S ALL HAPPENING APRIL 4TH AT BEAR CREEK COMMUNITY CHURCH\, 11171 LOWER SACRAMENTO ROAD\, CONVENIENTLY LOCATED BETWEEN LODI AND STOCKTON. FOR DETAILS: GO TO WWW.BEARCREEKCHURCH.COM
X-ALT-DESC;FMTTYPE=text/html:ON SATURDAY\, APRIL 4TH\, BRING THE WHOLE FAMILY TO A FREE EASTER CARNIVAL WITH GAMES\, CRAFTS\, FACEPAINTING\, CAKE WALK AND MORE FROM 9 AM. ? NOON. AND DON?T MISS OUT ON BREAKFAST WITH ?ALL YOU CAN EAT PANCAKES? PLUS BACON OR SAUSAGE\, EGGS\, ORANGE JUICE\, AND COFFEE FOR ONLY $5.00 FROM 9 ? 11:30 A.M. IT?S ALL HAPPENING APRIL 4TH AT BEAR CREEK COMMUNITY CHURCH\, 11171 LOWER SACRAMENTO ROAD\, CONVENIENTLY LOCATED BETWEEN LODI AND STOCKTON. FOR DETAILS: GO TO WWW.BEARCREEKCHURCH.COM
LOCATION:Bear Creek Community Church 11171 N Lower Sacramento Rd Lodi\, CA 95242
UID:e.2050.379
SEQUENCE:3
DTSTAMP:20260421T030901Z
URL:https://business.lodichamber.com/events/details/11th-annual-easter-carnival-04-04-2015-379
END:VEVENT

END:VCALENDAR
