BEGIN:VCALENDAR
VERSION:2.0
PRODID:-//ChamberMaster//Event Calendar 2.0//EN
METHOD:PUBLISH
X-PUBLISHED-TTL:P3D
REFRESH-INTERVAL:P3D
CALSCALE:GREGORIAN
BEGIN:VEVENT
DTSTART:20150528T173000Z
DTEND:20150528T203000Z
X-MICROSOFT-CDO-ALLDAYEVENT:FALSE
SUMMARY:18th Annual International Business Luncheon
DESCRIPTION:Join the Northern California World Trade Center on May 28 at the Sacramento Convention Center for the region's global trade and networking event of the year: the 18th Annual International Business Luncheon. This signature event brings together regional business leaders\, economic policy experts\, successful exporters and consuls representing dozens of countries to help you learn about the international market opportunities available to your company. This year?s speakers include Tracey Grose from the Bay Area Council?s Economic Institute and Michael Parr from Wente Family Estates. Ms. Grose will speak on the economic forecast and emerging opportunities for California while Mr. Parr will speak about the international growth of Wente Family Estates into one of California?s largest producers and exporters of premium California Wines.
X-ALT-DESC;FMTTYPE=text/html:Join the Northern California World Trade Center on May 28 at the Sacramento Convention Center for the region&#39\;s global trade and networking event of the year: the 18th Annual International Business Luncheon. This signature event brings together regional business leaders\, economic policy experts\, successful exporters and consuls representing dozens of countries to help you learn about the international market opportunities available to your company. This year?s speakers include Tracey Grose from the Bay Area Council?s Economic Institute and Michael Parr from Wente Family Estates. Ms. Grose will speak on the economic forecast and emerging opportunities for California while Mr. Parr will speak about the international growth of Wente Family Estates into one of California?s largest producers and exporters of premium California Wines.
LOCATION:Sacramento Convention Center - 1400 J St\, Sacramento\, CA 95814
UID:e.2050.835
SEQUENCE:3
DTSTAMP:20260421T031713Z
URL:https://business.lodichamber.com/events/details/18th-annual-international-business-luncheon-05-28-2015-835
END:VEVENT

END:VCALENDAR
