BEGIN:VCALENDAR
VERSION:2.0
PRODID:-//ChamberMaster//Event Calendar 2.0//EN
METHOD:PUBLISH
X-PUBLISHED-TTL:P3D
REFRESH-INTERVAL:P3D
CALSCALE:GREGORIAN
BEGIN:VEVENT
DTSTART:20151025T030000Z
DTEND:20151025T050000Z
X-MICROSOFT-CDO-ALLDAYEVENT:FALSE
SUMMARY:24- Hour Theater De Los Mutertos II
DESCRIPTION:Six writers will each write a script in 12 hours\, and directors and actors will rehearse for the next 12 hours\,then take the stage! Come and see local talent take on this huge challenge. This event promises to be a blast with some frights and some laughs! All proceeds for the event go towards supporting children's art activities in Lodi.
X-ALT-DESC;FMTTYPE=text/html:Six writers will each write a script in 12 hours\, and directors and actors will rehearse for the next 12 hours\,then take the stage! Come and see local talent take on this huge challenge. This event promises to be a blast with some frights and some laughs! All proceeds for the event go towards supporting children&#39\;s art activities in Lodi.
LOCATION:Hutchins Street Square 125 S. Hutchins Street
UID:e.2050.919
SEQUENCE:3
DTSTAMP:20260420T185439Z
URL:https://business.lodichamber.com/events/details/24-hour-theater-de-los-mutertos-ii-10-24-2015-919
END:VEVENT

END:VCALENDAR
