BEGIN:VCALENDAR
VERSION:2.0
PRODID:-//ChamberMaster//Event Calendar 2.0//EN
METHOD:PUBLISH
X-PUBLISHED-TTL:P3D
REFRESH-INTERVAL:P3D
CALSCALE:GREGORIAN
BEGIN:VEVENT
DTSTART:20151111T014500Z
DTEND:20151111T034500Z
X-MICROSOFT-CDO-ALLDAYEVENT:FALSE
SUMMARY:2nd Annual Nuestra Noche Event
DESCRIPTION:Nuestra Noche. Celebrating Latino heritage\, achievements and legacy. Join us for networking and a celebration of Hispanic Heritage event. Learn about New York Life?s ongoing efforts and commitment to the Latino community in Stockton.
X-ALT-DESC;FMTTYPE=text/html:Nuestra Noche. Celebrating Latino heritage\, achievements and legacy. Join us for networking and a celebration of Hispanic Heritage event. Learn about New York Life?s ongoing efforts and commitment to the Latino community in Stockton.
LOCATION:WINE & ROSES 2505 West Turner Road Lodi\,Ca 95242
UID:e.2050.933
SEQUENCE:3
DTSTAMP:20260420T172723Z
URL:https://business.lodichamber.com/events/details/2nd-annual-nuestra-noche-event-11-10-2015-933
END:VEVENT

END:VCALENDAR
