BEGIN:VCALENDAR
VERSION:2.0
PRODID:-//ChamberMaster//Event Calendar 2.0//EN
METHOD:PUBLISH
X-PUBLISHED-TTL:P3D
REFRESH-INTERVAL:P3D
CALSCALE:GREGORIAN
BEGIN:VEVENT
DTSTART:20151030T220000Z
DTEND:20151031T010000Z
X-MICROSOFT-CDO-ALLDAYEVENT:FALSE
SUMMARY:3rd Annual Friendly Fright Fest
DESCRIPTION:Pumpkin painting\, Bounce house\, Raffle(purchase) \, Bake sale\, DJ\,Facebook costume contest\, Balloon animals\, Prizes\, Face painting\, Games\, Healthy goblin goodies \,Trick or treating around each patient room and our participating businesses We will also be hosting a week-long bake sale and taking donations for Mary Graham Children?s Foundation. Admission and $25 off dentistry with donated items such as socks\, body sprays (not glass)\, soft blankets\, stuffed animals\, and monetary donation.
X-ALT-DESC;FMTTYPE=text/html:Pumpkin painting\, Bounce house\, Raffle(purchase) \, Bake sale\, DJ\,Facebook costume contest\, Balloon animals\, Prizes\, Face painting\, Games\, Healthy goblin goodies \,Trick or treating around each patient room and our participating businesses We will also be hosting a week-long bake sale and taking donations for Mary Graham Children?s Foundation. Admission and $25 off dentistry with donated items such as socks\, body sprays (not glass)\, soft blankets\, stuffed animals\, and monetary donation.
LOCATION:10928 Trinity Parkway Stockton\, Ca 95219
UID:e.2050.932
SEQUENCE:3
DTSTAMP:20260420T185947Z
URL:https://business.lodichamber.com/events/details/3rd-annual-friendly-fright-fest-10-30-2015-932
END:VEVENT

END:VCALENDAR
