BEGIN:VCALENDAR
VERSION:2.0
PRODID:-//ChamberMaster//Event Calendar 2.0//EN
METHOD:PUBLISH
X-PUBLISHED-TTL:P3D
REFRESH-INTERVAL:P3D
CALSCALE:GREGORIAN
BEGIN:VEVENT
DTSTART:20140628T180000Z
DTEND:20140628T210000Z
X-MICROSOFT-CDO-ALLDAYEVENT:FALSE
SUMMARY:4th Annual Taco Truck Cook-Off
DESCRIPTION:The Lodi Arts Commission will host the Fourth Annual Taco Truck Cook-Off. Up to 10 taco trucks will participate to see who will win the coveted title of Lodi?s best Taco Truck. Winners will be announced in two categories: Judge?s Award and People?s Choice. Free arts & crafts activities for children will be hosted by the Lodi Community Arts Center and the Lodi Arts Commission. There will be a live mariachi band performing\, followed by the Ballet Folklorico de Frank Zapata\, children dancers from Stockton. Food must be purchased at individual trucks. Beverages are also available for purchase.
X-ALT-DESC;FMTTYPE=text/html:The Lodi Arts Commission will host the Fourth Annual Taco Truck Cook-Off. Up to 10 taco trucks will participate to see who will win the coveted title of Lodi?s best Taco Truck. Winners will be announced in two categories: Judge?s Award and People?s Choice. Free arts &amp\; crafts activities for children will be hosted by the Lodi Community Arts Center and the Lodi Arts Commission. There will be a live mariachi band performing\, followed by the Ballet Folklorico de Frank Zapata\, children dancers from Stockton. Food must be purchased at individual trucks. Beverages are also available for purchase.
LOCATION:Central Avenue between Flora Street and Holborn Street in Lodi
UID:e.2050.272
SEQUENCE:3
DTSTAMP:20260421T174722Z
URL:https://business.lodichamber.com/events/details/4th-annual-taco-truck-cook-off-06-28-2014-272
END:VEVENT

END:VCALENDAR
