BEGIN:VCALENDAR
VERSION:2.0
PRODID:-//ChamberMaster//Event Calendar 2.0//EN
METHOD:PUBLISH
X-PUBLISHED-TTL:P3D
REFRESH-INTERVAL:P3D
CALSCALE:GREGORIAN
BEGIN:VEVENT
DTSTART:20151004T190000Z
DTEND:20151004T200000Z
X-MICROSOFT-CDO-ALLDAYEVENT:FALSE
SUMMARY:5th Annual STOMP Out Cancer
DESCRIPTION:The Harney Lane Winery family is excited to announce the 5th annual STOMP Out Cancer event\, scheduled for Sunday\, October 4th from 12 ? 4 p.m. This special fundraiser will benefit ?The Greyhounds? Relay for Life team in their fight against cancer. STOMP guests will enjoy an afternoon full of activities\, including an authentic grape stomp\, live music\, an opportunity drawing and silent auction\, as well as gourmet bbq available for purchase\, complimented by Harney Lane's delicious estate wines-by-the-glass! Event is free to attend and $20 to participate in the grape stomp. All proceeds go directly to charity.
X-ALT-DESC;FMTTYPE=text/html:The Harney Lane Winery family is excited to announce the 5th annual STOMP Out Cancer event\, scheduled for Sunday\, October 4th from 12 ? 4 p.m. This special fundraiser will benefit ?The Greyhounds? Relay for Life team in their fight against cancer. STOMP guests will enjoy an afternoon full of activities\, including an authentic grape stomp\, live music\, an opportunity drawing and silent auction\, as well as gourmet bbq available for purchase\, complimented by Harney Lane&#39\;s delicious estate wines-by-the-glass! Event is free to attend and $20 to participate in the grape stomp. All proceeds go directly to charity.
LOCATION:Harney Lane Winery - 9010 E. Harney Lane\, Lodi\, CA 95240
UID:e.2050.895
SEQUENCE:3
DTSTAMP:20260420T202704Z
URL:https://business.lodichamber.com/events/details/5th-annual-stomp-out-cancer-10-04-2015-895
END:VEVENT

END:VCALENDAR
