BEGIN:VCALENDAR
VERSION:2.0
PRODID:-//ChamberMaster//Event Calendar 2.0//EN
METHOD:PUBLISH
X-PUBLISHED-TTL:P3D
REFRESH-INTERVAL:P3D
CALSCALE:GREGORIAN
BEGIN:VEVENT
DTSTART:20140922T000000Z
DTEND:20140922T040000Z
X-MICROSOFT-CDO-ALLDAYEVENT:FALSE
SUMMARY:A Tribute to Legendary Stars "Vegas Style"
DESCRIPTION:A music tribute show featuring the sounds of legends. Acts such as Ike & Tina Turner\, Gladys Knight & Pips\, Jackie Wilson\, Stepp'in Stones\, Etta James and Teddy Pendergrass. Come and bring back your best memories from the past.
X-ALT-DESC;FMTTYPE=text/html:A music tribute show featuring the sounds of legends. Acts such as Ike &amp\; Tina Turner\, Gladys Knight &amp\; Pips\, Jackie Wilson\, Stepp&#39\;in Stones\, Etta James and Teddy Pendergrass. Come and bring back your best memories from the past.
LOCATION:Hutchins Street Square
UID:e.2050.299
SEQUENCE:3
DTSTAMP:20260421T131409Z
URL:https://business.lodichamber.com/events/details/a-tribute-to-legendary-stars-vegas-style-09-21-2014-299
END:VEVENT

END:VCALENDAR
