BEGIN:VCALENDAR
VERSION:2.0
PRODID:-//ChamberMaster//Event Calendar 2.0//EN
METHOD:PUBLISH
X-PUBLISHED-TTL:P3D
REFRESH-INTERVAL:P3D
CALSCALE:GREGORIAN
BEGIN:VEVENT
DTSTART:20271013T150000Z
DTEND:20271013T160000Z
X-MICROSOFT-CDO-ALLDAYEVENT:FALSE
SUMMARY:Agribusiness Committee Meeting
DESCRIPTION:
X-ALT-DESC;FMTTYPE=text/html:
LOCATION:Lodi Chamber of Commerce
UID:e.2050.5004
SEQUENCE:3
DTSTAMP:20260422T090530Z
URL:https://business.lodichamber.com/events/details/agribusiness-committee-meeting-10-13-2027-5004
END:VEVENT

END:VCALENDAR
