BEGIN:VCALENDAR
VERSION:2.0
PRODID:-//ChamberMaster//Event Calendar 2.0//EN
METHOD:PUBLISH
X-PUBLISHED-TTL:P3D
REFRESH-INTERVAL:P3D
CALSCALE:GREGORIAN
BEGIN:VEVENT
DTSTART:20150719T210000Z
DTEND:20150719T230000Z
X-MICROSOFT-CDO-ALLDAYEVENT:FALSE
SUMMARY:Alex Ramon #NewMagic
DESCRIPTION:Alex's show Illusion Fusion" was the #1 attraction in Lake Tahoe on both YELP and TripAdvisor. He was the "Magical Zingmaster" for Ringling Bros. and Barnum & Bailey  Circus. Alex toured the globe as the star of Disney Live! "Mickey's Magic Show" performing on 4 continents in 14 countries. In 2009 he was presented the "Presidential Citation" from the IBM and "The Presidents Award" from the SAM.
X-ALT-DESC;FMTTYPE=text/html:Alex&#39\;s show Illusion Fusion&quot\; was the #1 attraction in Lake Tahoe on both YELP and TripAdvisor. He was the &quot\;Magical Zingmaster&quot\; for Ringling Bros. and Barnum &amp\; Bailey&reg\; Circus. Alex toured the globe as the star of Disney Live! &quot\;Mickey&#39\;s Magic Show&quot\; performing on 4 continents in 14 countries. In 2009 he was presented the &quot\;Presidential Citation&quot\; from the IBM and &quot\;The Presidents Award&quot\; from the SAM.
LOCATION:Hutchins Street Square
UID:e.2050.841
SEQUENCE:3
DTSTAMP:20260420T231605Z
URL:https://business.lodichamber.com/events/details/alex-ramon-newmagic-07-19-2015-841
END:VEVENT

END:VCALENDAR
