BEGIN:VCALENDAR
VERSION:2.0
PRODID:-//ChamberMaster//Event Calendar 2.0//EN
METHOD:PUBLISH
X-PUBLISHED-TTL:P3D
REFRESH-INTERVAL:P3D
CALSCALE:GREGORIAN
BEGIN:VEVENT
DTSTART:20150321T020000Z
DTEND:20150321T043000Z
X-MICROSOFT-CDO-ALLDAYEVENT:FALSE
SUMMARY:Alien Abduction Movie Nite - 'Close Encounters of the 3rd Kind'
DESCRIPTION:Wear your favorite Sci-Fi/Alien costume. Snacks & beverages will be available for purchase.
X-ALT-DESC;FMTTYPE=text/html:Wear your favorite Sci-Fi/Alien costume. Snacks &amp\; beverages will be available for purchase.
LOCATION:Hutchins Street Square
UID:e.2050.387
SEQUENCE:3
DTSTAMP:20260421T060212Z
URL:https://business.lodichamber.com/events/details/alien-abduction-movie-nite-close-encounters-of-the-3rd-kind-03-20-2015-387
END:VEVENT

END:VCALENDAR
