BEGIN:VCALENDAR
VERSION:2.0
PRODID:-//ChamberMaster//Event Calendar 2.0//EN
METHOD:PUBLISH
X-PUBLISHED-TTL:P3D
REFRESH-INTERVAL:P3D
CALSCALE:GREGORIAN
BEGIN:VEVENT
DTSTART:20151028T010000Z
DTEND:20151028T033000Z
X-MICROSOFT-CDO-ALLDAYEVENT:FALSE
SUMMARY:Alive Inside Screening
DESCRIPTION:Join Vienna for the documentary screening Alive Inside. This inspirational documentary explores music's capacity to reawaken our souls and the deepest parts of our humanity. This documentary chronicles the experiences of individuals around the country who have been revitalized and awakened by the simple act of listening to the music of their youth. Proceeds from this screening will go to bring music into the lives of local seniors at LOEL Senior Center and Lodi Health's Adult Day Care\, offering some of the most loved members of our community a better quality of life.
X-ALT-DESC;FMTTYPE=text/html:Join Vienna for the documentary screening Alive Inside. This inspirational documentary explores music&#39\;s capacity to reawaken our souls and the deepest parts of our humanity. This documentary chronicles the experiences of individuals around the country who have been revitalized and awakened by the simple act of listening to the music of their youth. Proceeds from this screening will go to bring music into the lives of local seniors at LOEL Senior Center and Lodi Health&#39\;s Adult Day Care\, offering some of the most loved members of our community a better quality of life.
LOCATION:Hutchins Street Square\, Crete Hall 125 S Hutchins Street\, Lodi\, CA 95240
UID:e.2050.900
SEQUENCE:3
DTSTAMP:20260420T185140Z
URL:https://business.lodichamber.com/events/details/alive-inside-screening-10-27-2015-900
END:VEVENT

END:VCALENDAR
