BEGIN:VCALENDAR
VERSION:2.0
PRODID:-//ChamberMaster//Event Calendar 2.0//EN
METHOD:PUBLISH
X-PUBLISHED-TTL:P3D
REFRESH-INTERVAL:P3D
CALSCALE:GREGORIAN
BEGIN:VEVENT
DTSTART:20160507T140000Z
DTEND:20160507T180000Z
X-MICROSOFT-CDO-ALLDAYEVENT:FALSE
SUMMARY:All You Can Eat Hawaiian Pancake Breakfast
DESCRIPTION:The Stockton Fil-Am Lions invite you to an all you can eat Hawaiian pancake breakfast to benefit Community Center for the Blind and Visually Impaired on May 7\, 2016\, 7:00 a.m. to 11:00 a.m. Tickets cost $8.00 per person\, available at the door. Menu includes pancakes\, linguicia\, eggs\, fried rice\, fruit\, coffee\, fruit juice. Proceeds support programs and services for people in our community whose vision loss impedes their ability to perform tasks of daily living.
X-ALT-DESC;FMTTYPE=text/html:The Stockton Fil-Am Lions invite you to an all you can eat Hawaiian pancake breakfast to benefit Community Center for the Blind and Visually Impaired on May 7\, 2016\, 7:00 a.m. to 11:00 a.m. Tickets cost $8.00 per person\, available at the door. Menu includes pancakes\, linguicia\, eggs\, fried rice\, fruit\, coffee\, fruit juice. Proceeds support programs and services for people in our community whose vision loss impedes their ability to perform tasks of daily living.
LOCATION:Community Center for the Blind and Visually Impaired 130 West Flora Street Stockton\, California
UID:e.2050.986
SEQUENCE:3
DTSTAMP:20260420T084208Z
URL:https://business.lodichamber.com/events/details/all-you-can-eat-hawaiian-pancake-breakfast-05-07-2016-986
END:VEVENT

END:VCALENDAR
