BEGIN:VCALENDAR
VERSION:2.0
PRODID:-//ChamberMaster//Event Calendar 2.0//EN
METHOD:PUBLISH
X-PUBLISHED-TTL:P3D
REFRESH-INTERVAL:P3D
CALSCALE:GREGORIAN
BEGIN:VEVENT
DTSTART:20150924T003000Z
DTEND:20150924T023000Z
X-MICROSOFT-CDO-ALLDAYEVENT:FALSE
SUMMARY:Ambassador Mixer - Bank of Stockton
DESCRIPTION:Join us at Bank of Stockton for our Ambassador Mixer and Business Expo. It will be an evening of networking\, raffles\, wine and more.
X-ALT-DESC;FMTTYPE=text/html:Join us at Bank of Stockton for our Ambassador Mixer and Business Expo. It will be an evening of networking\, raffles\, wine and more.&nbsp\;
LOCATION:Bank of Stockton 120 West Walnut St. Lodi
UID:e.2050.870
SEQUENCE:3
DTSTAMP:20260420T203142Z
URL:https://business.lodichamber.com/events/details/ambassador-mixer-bank-of-stockton-09-23-2015-870
END:VEVENT

END:VCALENDAR
