BEGIN:VCALENDAR
VERSION:2.0
PRODID:-//ChamberMaster//Event Calendar 2.0//EN
METHOD:PUBLISH
X-PUBLISHED-TTL:P3D
REFRESH-INTERVAL:P3D
CALSCALE:GREGORIAN
BEGIN:VEVENT
DTSTART:20150912T190000Z
DTEND:20150913T000000Z
X-MICROSOFT-CDO-ALLDAYEVENT:FALSE
SUMMARY:Americana Music at The Lake
DESCRIPTION:Lodi Lake is the setting for Americana fans of all ages. Michael McNevin & The Spokes\, Aireene & The Rarities\, Mondo Live\, and Near Willow are scheduled. Gates open at 11:00am. Bring your low lawn chairs and blankets! Get your tickets early. Tickets at the gate go up to $25/$15. No outside food\, alcohol or beverages. Food\, beverages\, beer and wine will be available for purchase at the festival.
X-ALT-DESC;FMTTYPE=text/html:Lodi Lake is the setting for Americana fans of all ages. Michael McNevin &amp\; The Spokes\, Aireene &amp\; The Rarities\, Mondo Live\, and Near Willow are scheduled. Gates open at 11:00am. Bring your low lawn chairs and blankets! Get your tickets early. Tickets at the gate go up to $25/$15. No outside food\, alcohol or beverages. Food\, beverages\, beer and wine will be available for purchase at the festival.
LOCATION:Lodi Lake Park 1101 W. Turner Rd. Lodi\, CA 95240
UID:e.2050.891
SEQUENCE:3
DTSTAMP:20260420T203020Z
URL:https://business.lodichamber.com/events/details/americana-music-at-the-lake-09-12-2015-891
END:VEVENT

END:VCALENDAR
