BEGIN:VCALENDAR
VERSION:2.0
PRODID:-//ChamberMaster//Event Calendar 2.0//EN
METHOD:PUBLISH
X-PUBLISHED-TTL:P3D
REFRESH-INTERVAL:P3D
CALSCALE:GREGORIAN
BEGIN:VEVENT
DTSTART:20150511T180000Z
DTEND:20150511T230000Z
X-MICROSOFT-CDO-ALLDAYEVENT:FALSE
SUMMARY:Amgen Tour of California - Stage 2 Finish
DESCRIPTION:The Stage 2 finish of the 2015 Amgen Tour of California will take place in Lodi! \n\nDon't miss the action and festivities that surround this world-class event. Modeled after the Tour de France\, this picturesque but grueling eight-day\, 700 mile road race will challenge nearly 130 professional cyclists from 18 international and domestic teams as they compete to win on some of California's most beautiful roadways\, highways and coastlines May 10-17th\, 2015. The teams chosen to participate have included Olympic medalists\, Tour de France contenders and World Champions. Stage 2 of the race will take these cyclists from scenic Nevada City to the vineyards and downtown streets of Lodi\, California.
X-ALT-DESC;FMTTYPE=text/html:The Stage 2 finish of the 2015 Amgen Tour of California will take place in Lodi!&nbsp\;<br />\n<span style="font-family:calibri\;"><span style="font-size:12.0pt\;">Don&rsquo\;t miss the action and festivities that surround this world-class event. Modeled after the Tour de France\, this picturesque but grueling eight-day\, 700 mile road race will challenge nearly 130 professional cyclists from 18 international and domestic teams as they compete to win on some of California&rsquo\;s most beautiful roadways\, highways and coastlines May 10-17th\, 2015. The teams chosen to participate have included Olympic medalists\, Tour de France contenders and World Champions. Stage 2 of the race will take these cyclists from scenic Nevada City to the vineyards and downtown streets of Lodi\, California.&nbsp\;</span></span>
LOCATION:Amgen Tour of California Lifestyle Festival will take place from 11:00 am to 4:00 pm at Hutchins Street Square (125 S. Hutchins St. #A) in downtown Lodi on Monday\, May 11th in the hours leading up to the exhilarating closed course circuit in downtown Lodi and Amgen Tour of California stage 2 finish at Hutchins Street Square. The Lifestyle Festival will feature cycling\, merchandise and healthcare vendors\, live entertainment\, family activities\, cancer awareness education\, food\, wine tasting by some of the region's premium boutique wineries and more! The Lifestyle Festival is a family-friendly event. There is no cost to attend http://amgentoclodi.com/route/
UID:e.2050.426
SEQUENCE:3
DTSTAMP:20260421T021149Z
URL:https://business.lodichamber.com/events/details/amgen-tour-of-california-stage-2-finish-05-11-2015-426
END:VEVENT

END:VCALENDAR
