BEGIN:VCALENDAR
VERSION:2.0
PRODID:-//ChamberMaster//Event Calendar 2.0//EN
METHOD:PUBLISH
X-PUBLISHED-TTL:P3D
REFRESH-INTERVAL:P3D
CALSCALE:GREGORIAN
BEGIN:VEVENT
DTSTART:20150726T013000Z
DTEND:20150726T040000Z
X-MICROSOFT-CDO-ALLDAYEVENT:FALSE
SUMMARY:An Evening in the Barrel Room
DESCRIPTION:A benefit for the Pregnancy Resource Center of Lodi. An evening to enjoy wine\, delicious hors d'oeuvres and celebrate life in the fine arts with live music\, live theater and silent auction.
X-ALT-DESC;FMTTYPE=text/html:A benefit for the Pregnancy Resource Center of Lodi. An evening to enjoy wine\, delicious hors d&#39\;oeuvres and celebrate life in the fine arts with live music\, live theater and silent auction.
LOCATION:Van Ruiten Winery 340 Highway 12\, Lodi
UID:e.2050.848
SEQUENCE:3
DTSTAMP:20260420T231945Z
URL:https://business.lodichamber.com/events/details/an-evening-in-the-barrel-room-07-25-2015-848
END:VEVENT

END:VCALENDAR
