BEGIN:VCALENDAR
VERSION:2.0
PRODID:-//ChamberMaster//Event Calendar 2.0//EN
METHOD:PUBLISH
X-PUBLISHED-TTL:P3D
REFRESH-INTERVAL:P3D
CALSCALE:GREGORIAN
BEGIN:VEVENT
DTSTART:20140425T010000Z
DTEND:20140425T020000Z
X-MICROSOFT-CDO-ALLDAYEVENT:FALSE
SUMMARY:Anchor
DESCRIPTION:We are a small group that discusses faith...and just about everything else. Love\, family\, sex\, God\, the Bible\, and life with honest real people\, just like you. Come as you are. Turned off to religion but curious about God? Come seek truth with us.  Every Thursday 6-7pm in the conference room at Togo?s: 1433 W March Ln Contact: Mark 209-303-5468
X-ALT-DESC;FMTTYPE=text/html:We are a small group that discusses faith...and just about everything else. Love\, family\, sex\, God\, the Bible\, and life with honest real people\, just like you. Come as you are. Turned off to religion but curious about God? Come seek truth with us.&nbsp\; Every Thursday 6-7pm in the conference room at Togo?s: 1433 W March Ln Contact: Mark 209-303-5468
LOCATION:Togo's 1433 W March Ln Stockton\, CA 95206
UID:e.2050.269
SEQUENCE:3
DTSTAMP:20260421T204559Z
URL:https://business.lodichamber.com/events/details/anchor-04-24-2014-269
END:VEVENT

END:VCALENDAR
