BEGIN:VCALENDAR
VERSION:2.0
PRODID:-//ChamberMaster//Event Calendar 2.0//EN
METHOD:PUBLISH
X-PUBLISHED-TTL:P3D
REFRESH-INTERVAL:P3D
CALSCALE:GREGORIAN
BEGIN:VEVENT
DTSTART:20160516T184500Z
DTEND:20160516T200000Z
X-MICROSOFT-CDO-ALLDAYEVENT:FALSE
SUMMARY:ANG Networking Meeting
DESCRIPTION:We invite YOU to join us and view how our approach and understanding that networking it the KEY to business success\, which makes our group like no other.
X-ALT-DESC;FMTTYPE=text/html:We invite YOU to join us and view how our approach and understanding that networking it the KEY to business success\, which makes our group like no other.
LOCATION:Arbor Senior Living 115 Louie Ave. Lodi\, CA 95240
UID:e.2050.1138
SEQUENCE:3
DTSTAMP:20260420T083639Z
URL:https://business.lodichamber.com/events/details/ang-networking-meeting-05-16-2016-1138
END:VEVENT

END:VCALENDAR
