BEGIN:VCALENDAR
VERSION:2.0
PRODID:-//ChamberMaster//Event Calendar 2.0//EN
METHOD:PUBLISH
X-PUBLISHED-TTL:P3D
REFRESH-INTERVAL:P3D
CALSCALE:GREGORIAN
BEGIN:VEVENT
DTSTART:20151024T020000Z
DTEND:20151024T040000Z
X-MICROSOFT-CDO-ALLDAYEVENT:FALSE
SUMMARY:Austrailia's Thunder From Down Under
DESCRIPTION:It's the perfect Girl's Night Outback! Australia's hottest export will hit the stage showing off chiseled bodies\, seductive dance routines\, cheeky humor and boy-next-door charm the audience won't be able to resist. This isn't the type of show you just sit and watch. Thunder is a fully interactive experience.
X-ALT-DESC;FMTTYPE=text/html:It&#39\;s the perfect Girl&#39\;s Night Outback! Australia&#39\;s hottest export will hit the stage showing off chiseled bodies\, seductive dance routines\, cheeky humor and boy-next-door charm the audience won&#39\;t be able to resist. This isn&#39\;t the type of show you just sit and watch. Thunder is a fully interactive experience.
LOCATION:Hutchins Street Square 125 S. Hutchins St. Lodi\, CA 95240
UID:e.2050.899
SEQUENCE:3
DTSTAMP:20260420T185247Z
URL:https://business.lodichamber.com/events/details/austrailia-s-thunder-from-down-under-10-23-2015-899
END:VEVENT

END:VCALENDAR
