BEGIN:VCALENDAR
VERSION:2.0
PRODID:-//ChamberMaster//Event Calendar 2.0//EN
METHOD:PUBLISH
X-PUBLISHED-TTL:P3D
REFRESH-INTERVAL:P3D
CALSCALE:GREGORIAN
BEGIN:VEVENT
DTSTART:20151016T020000Z
DTEND:20151016T040000Z
X-MICROSOFT-CDO-ALLDAYEVENT:FALSE
SUMMARY:Bandstand Boogie Featuring the Diamonds
DESCRIPTION:Presented by the Lodi Community Concert Assocation Legendary vocal pop band brings the hits of famed television show American Bandstand to life. Decades of hits delivered with inimitable Diamonds flare! Relive the golden age of television and popular music.
X-ALT-DESC;FMTTYPE=text/html:Presented by the Lodi Community Concert Assocation Legendary vocal pop band brings the hits of famed television show American Bandstand to life. Decades of hits delivered with inimitable Diamonds flare! Relive the golden age of television and popular music.
LOCATION:Hutchins Street Square
UID:e.2050.898
SEQUENCE:3
DTSTAMP:20260420T185409Z
URL:https://business.lodichamber.com/events/details/bandstand-boogie-featuring-the-diamonds-10-15-2015-898
END:VEVENT

END:VCALENDAR
