BEGIN:VCALENDAR
VERSION:2.0
PRODID:-//ChamberMaster//Event Calendar 2.0//EN
METHOD:PUBLISH
X-PUBLISHED-TTL:P3D
REFRESH-INTERVAL:P3D
CALSCALE:GREGORIAN
BEGIN:VEVENT
DTSTART:20150313T003000Z
DTEND:20150313T020000Z
X-MICROSOFT-CDO-ALLDAYEVENT:FALSE
SUMMARY:Berkshire Hathaway HomeServices - Ribbon Cutting
DESCRIPTION:Join us as we welcome Berkshire Hathaway HomeServices Drysdale Properties into the Chamber family with their Ribbon Cutting.
X-ALT-DESC;FMTTYPE=text/html:Join us as we welcome Berkshire Hathaway HomeServices&nbsp\;Drysdale Properties into the Chamber family with their Ribbon Cutting.&nbsp\;
LOCATION:2401 W. Turner Road #300 Lodi
UID:e.2050.391
SEQUENCE:3
DTSTAMP:20260421T043246Z
URL:https://business.lodichamber.com/events/details/berkshire-hathaway-homeservices-ribbon-cutting-03-12-2015-391
END:VEVENT

END:VCALENDAR
