BEGIN:VCALENDAR
VERSION:2.0
PRODID:-//ChamberMaster//Event Calendar 2.0//EN
METHOD:PUBLISH
X-PUBLISHED-TTL:P3D
REFRESH-INTERVAL:P3D
CALSCALE:GREGORIAN
BEGIN:VEVENT
DTSTART:20140515T133000Z
DTEND:20140515T153000Z
X-MICROSOFT-CDO-ALLDAYEVENT:FALSE
SUMMARY:Bike to Work Day
DESCRIPTION:We would like to add our Bike to Work Week event to your events calendar. There will be give-a-way items and chances to win great prizes for participants. Please see the link below: http://www.valleybikecommute.com/ Thank you.
X-ALT-DESC;FMTTYPE=text/html:We would like to add our Bike to Work Week event to your events calendar. There will be give-a-way items and chances to win great prizes for participants. Please see the link below: http://www.valleybikecommute.com/ Thank you.
LOCATION:Veteran's Plaza
UID:e.2050.274
SEQUENCE:3
DTSTAMP:20260421T190952Z
URL:https://business.lodichamber.com/events/details/bike-to-work-day-05-15-2014-274
END:VEVENT

END:VCALENDAR
