BEGIN:VCALENDAR
VERSION:2.0
PRODID:-//ChamberMaster//Event Calendar 2.0//EN
METHOD:PUBLISH
X-PUBLISHED-TTL:P3D
REFRESH-INTERVAL:P3D
CALSCALE:GREGORIAN
BEGIN:VEVENT
DTSTART:20160115T030000Z
DTEND:20160115T050000Z
X-MICROSOFT-CDO-ALLDAYEVENT:FALSE
SUMMARY:Billy Dean
DESCRIPTION:Grammy Award Winner with 11 top ten singles and 5 number one hits. He returns to the road one man\, one guitar\, piano and multimedia
X-ALT-DESC;FMTTYPE=text/html:Grammy Award Winner with 11 top ten singles and 5 number one hits. He returns to the road one man\, one guitar\, piano and multimedia
LOCATION:125 S. Hutchins Street
UID:e.2050.950
SEQUENCE:3
DTSTAMP:20260420T142549Z
URL:https://business.lodichamber.com/events/details/billy-dean-01-14-2016-950
END:VEVENT

END:VCALENDAR
