BEGIN:VCALENDAR
VERSION:2.0
PRODID:-//ChamberMaster//Event Calendar 2.0//EN
METHOD:PUBLISH
X-PUBLISHED-TTL:P3D
REFRESH-INTERVAL:P3D
CALSCALE:GREGORIAN
BEGIN:VEVENT
DTSTART:20150919T003000Z
DTEND:20150919T023000Z
X-MICROSOFT-CDO-ALLDAYEVENT:FALSE
SUMMARY:Blend Food * Drink - Ribbon Cutting
DESCRIPTION:Join us as we celebrate Blend Ultra Lounge joining the Chamber family! It will be a wonderful evening of networking\, champagne at one of Lodi's newest hot spots!\n\n\n\nLodi's premiere nightlife experience ~ set in the heart of downtown Lodi\, Blend Food and Drink is part fine dining and part nightclub designed for a unique and exceptional experience. \n\n\n\nBlend offers tapas and other entrees for dinner\, a full bar\, and dancing on Friday and Saturday nights. Brunch is served on Sunday.
X-ALT-DESC;FMTTYPE=text/html:<span style="font-size:14px\;"><span style="font-family:arial\;">Join us as we celebrate Blend Ultra Lounge joining the Chamber family! It will be a wonderful evening of networking\, champagne at one of Lodi&#39\;s newest hot spots!</span></span><br />\n<br />\n<span style="font-size:14px\;"><span style="font-family:arial\;">Lodi&#39\;s premiere nightlife experience ~ set in the heart of downtown Lodi\, Blend Food and Drink is part fine dining and part nightclub designed for a unique and exceptional experience.&nbsp\;<br />\n<br />\n<span style="line-height: 21.0063px\; background-color: rgb(255\, 255\, 255)\;">Blend offers tapas and other entrees for dinner\, a full bar\, and dancing on Friday and Saturday nights. Brunch is served on Sunday.</span></span></span>\n\n<h1 style="margin: 0px 0px 0.5em\; color: rgb(22\, 22\, 29)\; font-family: proxima-nova\; line-height: 1.2em\; text-transform: uppercase\; letter-spacing: 2px\; background-color: rgb(255\, 255\, 255)\;">&nbsp\;</h1>\n
LOCATION:Blend Food * Drink 115 S School St #13\, Lodi\, CA 95240
UID:e.2050.912
SEQUENCE:3
DTSTAMP:20260420T215327Z
URL:https://business.lodichamber.com/events/details/blend-food-drink-ribbon-cutting-09-18-2015-912
END:VEVENT

END:VCALENDAR
