BEGIN:VCALENDAR
VERSION:2.0
PRODID:-//ChamberMaster//Event Calendar 2.0//EN
METHOD:PUBLISH
X-PUBLISHED-TTL:P3D
REFRESH-INTERVAL:P3D
CALSCALE:GREGORIAN
BEGIN:VEVENT
DTSTART:20140906T190000Z
DTEND:20140907T000000Z
X-MICROSOFT-CDO-ALLDAYEVENT:FALSE
SUMMARY:Blue Grass At The Lake
DESCRIPTION:Lodi Lake is the setting for Lodi?s second annual Bluegrass Festival. Joe and Hattie Craven\, Snap Jackson & the Knock on Wood Players\, Evie Ladin/Evil Diane with Keith Terry and Erik Pearson\, Cliff Compton & Mountaintop\, and Blame Sally are scheduled. Gates open at 11:00 AM with the first group performing at 12:00pm. Bring your low lawn chairs and blankets! Get your tickets early. Tickets at the gate go up to $25/$15. No outside food\, beverages\, or non-service dogs. Food\, beverages\, beer and wine available for purchase at the festival.
X-ALT-DESC;FMTTYPE=text/html:Lodi Lake is the setting for Lodi?s second annual Bluegrass Festival. Joe and Hattie Craven\, Snap Jackson &amp\; the Knock on Wood Players\, Evie Ladin/Evil Diane with Keith Terry and Erik Pearson\, Cliff Compton &amp\; Mountaintop\, and Blame Sally are scheduled. Gates open at 11:00 AM with the first group performing at 12:00pm. Bring your low lawn chairs and blankets! Get your tickets early. Tickets at the gate go up to $25/$15. No outside food\, beverages\, or non-service dogs. Food\, beverages\, beer and wine available for purchase at the festival.
LOCATION:Lodi Lake 1101 W. Turner Rd. Lodi\, CA 95240
UID:e.2050.282
SEQUENCE:3
DTSTAMP:20260421T131141Z
URL:https://business.lodichamber.com/events/details/blue-grass-at-the-lake-09-06-2014-282
END:VEVENT

END:VCALENDAR
