BEGIN:VCALENDAR
VERSION:2.0
PRODID:-//ChamberMaster//Event Calendar 2.0//EN
METHOD:PUBLISH
X-PUBLISHED-TTL:P3D
REFRESH-INTERVAL:P3D
CALSCALE:GREGORIAN
BEGIN:VEVENT
DTSTART:20150815T010000Z
DTEND:20150815T040000Z
X-MICROSOFT-CDO-ALLDAYEVENT:FALSE
SUMMARY:Blues and Brews
DESCRIPTION:Come out to enjoy excellent music along with 20 plus CRAFT BREWERS including Anchor Brewing\, Heretic Brewing Co.\, Lagunitas Brewing\, Pyramid\, 21st Amendment and many more! Ticket includes commemorative beer glass\, up to 8 samples of craft beer\, light appetizers\, access to great local food vendors and live blues music! Age 21 and up only. At the door admission goes up to $30.00.
X-ALT-DESC;FMTTYPE=text/html:Come out to enjoy excellent music along with 20 plus CRAFT BREWERS including Anchor Brewing\, Heretic Brewing Co.\, Lagunitas Brewing\, Pyramid\, 21st Amendment and many more! Ticket includes commemorative beer glass\, up to 8 samples of craft beer\, light appetizers\, access to great local food vendors and live blues music! Age 21 and up only. At the door admission goes up to $30.00.
LOCATION:Hutchins Street Square 125 S. Hutchins St. Lodi\, CA 95240
UID:e.2050.878
SEQUENCE:3
DTSTAMP:20260420T215342Z
URL:https://business.lodichamber.com/events/details/blues-and-brews-08-14-2015-878
END:VEVENT

END:VCALENDAR
