BEGIN:VCALENDAR
VERSION:2.0
PRODID:-//ChamberMaster//Event Calendar 2.0//EN
METHOD:PUBLISH
X-PUBLISHED-TTL:P3D
REFRESH-INTERVAL:P3D
CALSCALE:GREGORIAN
BEGIN:VEVENT
DTSTART:20160319T180000Z
DTEND:20160321T000000Z
X-MICROSOFT-CDO-ALLDAYEVENT:FALSE
SUMMARY:Bokisch Grand Opening Tasting Room
DESCRIPTION:Bokisch Vineyards is holding a grand opening party March 19-20 to celebrate their new winery facility and tasting room located at 18921 Atkins Road in Lodi\, California. The grand opening party is open to the public and will run from 11 a.m. to 5 p.m. both days. Each day of the grand opening will feature wine tasting\, a special barrel tasting\, winery tours\, paella from Addy's Paella for $8 per plate\, seating overlooking the rolling hills and oak trees of Terra Alta Vineyard\, and live music by Group Therapy (Saturday) and Acoustic Measures (Sunday).
X-ALT-DESC;FMTTYPE=text/html:Bokisch Vineyards is holding a grand opening party March 19-20 to celebrate their new winery facility and tasting room located at 18921 Atkins Road in Lodi\, California. The grand opening party is open to the public and will run from 11 a.m. to 5 p.m. both days. Each day of the grand opening will feature wine tasting\, a special barrel tasting\, winery tours\, paella from Addy&#39\;s Paella for $8 per plate\, seating overlooking the rolling hills and oak trees of Terra Alta Vineyard\, and live music by Group Therapy (Saturday) and Acoustic Measures (Sunday).
LOCATION:18921 Atkins Road\, Lodi\, CA
UID:e.2050.972
SEQUENCE:3
DTSTAMP:20260420T114217Z
URL:https://business.lodichamber.com/events/details/bokisch-grand-opening-tasting-room-03-19-2016-972
END:VEVENT

END:VCALENDAR
