BEGIN:VCALENDAR
VERSION:2.0
PRODID:-//ChamberMaster//Event Calendar 2.0//EN
METHOD:PUBLISH
X-PUBLISHED-TTL:P3D
REFRESH-INTERVAL:P3D
CALSCALE:GREGORIAN
BEGIN:VEVENT
DTSTART:20270824T230000Z
DTEND:20270825T000000Z
X-MICROSOFT-CDO-ALLDAYEVENT:FALSE
SUMMARY:Business Development Committee
DESCRIPTION:
X-ALT-DESC;FMTTYPE=text/html:
LOCATION:
UID:e.2050.4679
SEQUENCE:3
DTSTAMP:20260422T114820Z
URL:https://business.lodichamber.com/events/details/business-development-committee-08-24-2027-4679
END:VEVENT

END:VCALENDAR
