BEGIN:VCALENDAR
VERSION:2.0
PRODID:-//ChamberMaster//Event Calendar 2.0//EN
METHOD:PUBLISH
X-PUBLISHED-TTL:P3D
REFRESH-INTERVAL:P3D
CALSCALE:GREGORIAN
BEGIN:VEVENT
DTSTART:20270928T230000Z
DTEND:20270929T000000Z
X-MICROSOFT-CDO-ALLDAYEVENT:FALSE
SUMMARY:Business Development Committee
DESCRIPTION:
X-ALT-DESC;FMTTYPE=text/html:
LOCATION:
UID:e.2050.4680
SEQUENCE:3
DTSTAMP:20260422T101739Z
URL:https://business.lodichamber.com/events/details/business-development-committee-09-28-2027-4680
END:VEVENT

END:VCALENDAR
