BEGIN:VCALENDAR
VERSION:2.0
PRODID:-//ChamberMaster//Event Calendar 2.0//EN
METHOD:PUBLISH
X-PUBLISHED-TTL:P3D
REFRESH-INTERVAL:P3D
CALSCALE:GREGORIAN
BEGIN:VEVENT
DTSTART:20260227T000000Z
DTEND:20260227T020000Z
X-MICROSOFT-CDO-ALLDAYEVENT:FALSE
SUMMARY:CANCELLED Ambassadors Quarterly Mixer
DESCRIPTION:CANCELLED\n\n\n\nRESCHEDULED MARCH 5TH  4-6PM\n\n\n\nWine and Roses\n\nMORE INFORMATION TO COME
X-ALT-DESC;FMTTYPE=text/html:<strong><span style="font-size:24px\;">CANCELLED</span></strong><br />\n<br />\nRESCHEDULED MARCH 5TH&nbsp\; 4-6PM<br />\n<br />\nWine and Roses<br />\nMORE INFORMATION TO COME
LOCATION:
UID:e.2050.6217
SEQUENCE:3
DTSTAMP:20260419T142949Z
URL:https://business.lodichamber.com/events/details/cancelled-ambassadors-quarterly-mixer-6217
END:VEVENT

END:VCALENDAR
