BEGIN:VCALENDAR
VERSION:2.0
PRODID:-//ChamberMaster//Event Calendar 2.0//EN
METHOD:PUBLISH
X-PUBLISHED-TTL:P3D
REFRESH-INTERVAL:P3D
CALSCALE:GREGORIAN
BEGIN:VEVENT
DTSTART:20160426T200000Z
DTEND:20160512T230000Z
X-MICROSOFT-CDO-ALLDAYEVENT:FALSE
SUMMARY:CASA Volunteer Foster Youth Advocate Spring Training Session
DESCRIPTION:Speak up for a foster child. Do you have 10-15 hours a month to help a foster child? Become a CASA. Court Appointed Special Advocates (CASAs) are volunteers\, trained to advocate for children in foster care in the courtroom\, classroom\, and community. CASA of San Joaquin County matches each CASA with a staff member\, who works with them on their case. CASA of San Joaquin County is the only nonprofit organization in San Joaquin County designated by the Court to recruit\, train\, and lead CASA volunteers. More than 1\,500 children pass through San Joaquin's foster care system annually. Many of these children in in constant crisis and feel very much alone-until they find their CASA. Must be 21 or older to volunteer. If you're ready for the role of a lifetime\, if you?re ready to help create a brighter future for a foster child\, contact CASA of San Joaquin County today! Be the voice. BECOME A CASA Classes starting April 26\, 2016.
X-ALT-DESC;FMTTYPE=text/html:Speak up for a foster child. Do you have 10-15 hours a month to help a foster child? Become a CASA. Court Appointed Special Advocates (CASAs) are volunteers\, trained to advocate for children in foster care in the courtroom\, classroom\, and community. CASA of San Joaquin County matches each CASA with a staff member\, who works with them on their case. CASA of San Joaquin County is the only nonprofit organization in San Joaquin County designated by the Court to recruit\, train\, and lead CASA volunteers. More than 1\,500 children pass through San Joaquin&#39\;s foster care system annually. Many of these children in in constant crisis and feel very much alone-until they find their CASA. Must be 21 or older to volunteer. If you&#39\;re ready for the role of a lifetime\, if you?re ready to help create a brighter future for a foster child\, contact CASA of San Joaquin County today! Be the voice. BECOME A CASA Classes starting April 26\, 2016.
LOCATION:All classes will be held at the CAPC/CASA 'Newberry' office\, located at 127 North Sutter Street\, Stockton\, CA 95202
UID:e.2050.983
SEQUENCE:3
DTSTAMP:20260420T084312Z
URL:https://business.lodichamber.com/events/details/casa-volunteer-foster-youth-advocate-spring-training-session-04-26-2016-983
END:VEVENT

END:VCALENDAR
