BEGIN:VCALENDAR
VERSION:2.0
PRODID:-//ChamberMaster//Event Calendar 2.0//EN
METHOD:PUBLISH
X-PUBLISHED-TTL:P3D
REFRESH-INTERVAL:P3D
CALSCALE:GREGORIAN
BEGIN:VEVENT
DTSTART:20141206T030000Z
DTEND:20141206T040000Z
X-MICROSOFT-CDO-ALLDAYEVENT:FALSE
SUMMARY:Celebrate the Season with Jaci Velasquez
DESCRIPTION:Christian recording artist JACI VELAS QUEZ will be this year?s special guest performer at ?Celebrate the Se ason\,? the third annual Women?s Christmas Event presented by BCCC Women?s Ministry\, Friday\, December 5 at 7:00 p.m. Jaci w ill be accompanied by her husband\, Nic Gonzalez\, on acoustic guitar. Nic is the lead sin ger of Salvador\, a popular Christian recording group. Bear Creek Community Church is c onveniently located between Lodi and Stockton. Ticket prices are $25 - $35. Tickets go on sale October 5 at www.bearcreekchurch.com until sold out!
X-ALT-DESC;FMTTYPE=text/html:Christian recording artist JACI VELAS QUEZ will be this year?s special guest performer at ?Celebrate the Se ason\,? the third annual Women?s Christmas Event presented by BCCC Women?s Ministry\, Friday\, December 5 at 7:00 p.m. Jaci w ill be accompanied by her husband\, Nic Gonzalez\, on acoustic guitar. Nic is the lead sin ger of Salvador\, a popular Christian recording group. Bear Creek Community Church is c onveniently located between Lodi and Stockton. Ticket prices are $25 - $35. Tickets go on sale October 5 at www.bearcreekchurch.com until sold out!
LOCATION:Bear Creek Community Church 11171 N Lower Sacramento Rd Lodi\, CA 95242
UID:e.2050.328
SEQUENCE:3
DTSTAMP:20260421T085356Z
URL:https://business.lodichamber.com/events/details/celebrate-the-season-with-jaci-velasquez-12-05-2014-328
END:VEVENT

END:VCALENDAR
