BEGIN:VCALENDAR
VERSION:2.0
PRODID:-//ChamberMaster//Event Calendar 2.0//EN
METHOD:PUBLISH
X-PUBLISHED-TTL:P3D
REFRESH-INTERVAL:P3D
CALSCALE:GREGORIAN
BEGIN:VEVENT
DTSTART:20150207T230000Z
DTEND:20150208T010000Z
X-MICROSOFT-CDO-ALLDAYEVENT:FALSE
SUMMARY:Central Valley Youth Symphony
DESCRIPTION:Winter Concert "A Night at the Opera" Make it a relaxing afternoon and be entertained by attending a performance of the valley's finest young musicians.
X-ALT-DESC;FMTTYPE=text/html:Winter Concert &quot\;A Night at the Opera&quot\; Make it a relaxing afternoon and be entertained by attending a performance of the valley&#39\;s finest young musicians.
LOCATION:Hutchins Street Square 125 S. Hutchins St. Lodi\, CA 95240
UID:e.2050.358
SEQUENCE:3
DTSTAMP:20260421T055906Z
URL:https://business.lodichamber.com/events/details/central-valley-youth-symphony-02-07-2015-358
END:VEVENT

END:VCALENDAR
