BEGIN:VCALENDAR
VERSION:2.0
PRODID:-//ChamberMaster//Event Calendar 2.0//EN
METHOD:PUBLISH
X-PUBLISHED-TTL:P3D
REFRESH-INTERVAL:P3D
CALSCALE:GREGORIAN
BEGIN:VEVENT
DTSTART:20151118T160000Z
DTEND:20151118T180000Z
X-MICROSOFT-CDO-ALLDAYEVENT:FALSE
SUMMARY:Chamber New & Current Member Meeting
DESCRIPTION:*Connect with over 40 other business owners\n\n*Hear updates on Vision 2020\n\n*Meet Chamber Staff and hear how they support your business\n\n*Learn how you can become involved with the Chamber
X-ALT-DESC;FMTTYPE=text/html:*Connect with over 40 other business owners<br />\n*Hear updates on Vision 2020<br />\n*Meet Chamber Staff and hear how they support your business<br />\n*Learn how you can become involved with the Chamber
LOCATION:Lodi Library 201 W. Locust St.
UID:e.2050.934
SEQUENCE:3
DTSTAMP:20260420T172854Z
URL:https://business.lodichamber.com/events/details/chamber-new-current-member-meeting-11-18-2015-934
END:VEVENT

END:VCALENDAR
