BEGIN:VCALENDAR
VERSION:2.0
PRODID:-//ChamberMaster//Event Calendar 2.0//EN
METHOD:PUBLISH
X-PUBLISHED-TTL:P3D
REFRESH-INTERVAL:P3D
CALSCALE:GREGORIAN
BEGIN:VEVENT
DTSTART:20141212T013000Z
DTEND:20141212T040000Z
X-MICROSOFT-CDO-ALLDAYEVENT:FALSE
SUMMARY:Champagne Shopping
DESCRIPTION:Come visit the World of Wonders Science Museum and do some holiday shopping for the special people in your life. Enjoy discounts\, sparkling wine\, and complimentary gift wrapping.
X-ALT-DESC;FMTTYPE=text/html:Come visit the World of Wonders Science Museum and do some holiday shopping for the special people in your life. Enjoy discounts\, sparkling wine\, and complimentary gift wrapping.
LOCATION:2 N. Sacramento Street Lodi\, CA 95240
UID:e.2050.342
SEQUENCE:3
DTSTAMP:20260421T090835Z
URL:https://business.lodichamber.com/events/details/champagne-shopping-12-11-2014-342
END:VEVENT

END:VCALENDAR
