BEGIN:VCALENDAR
VERSION:2.0
PRODID:-//ChamberMaster//Event Calendar 2.0//EN
METHOD:PUBLISH
X-PUBLISHED-TTL:P3D
REFRESH-INTERVAL:P3D
CALSCALE:GREGORIAN
BEGIN:VEVENT
DTSTART:20290103T193000Z
DTEND:20290103T210000Z
X-MICROSOFT-CDO-ALLDAYEVENT:FALSE
SUMMARY:Chew & Chat
DESCRIPTION:
X-ALT-DESC;FMTTYPE=text/html:
LOCATION:(PLEASE NOTE: Locations may change. Follow the Lodi Chamber Ambassadors Facebook page for updates each month.)
UID:e.2050.4396
SEQUENCE:3
DTSTAMP:20260425T162652Z
URL:https://business.lodichamber.com/events/details/chew-chat-01-03-2029-4396
END:VEVENT

END:VCALENDAR
