BEGIN:VCALENDAR
VERSION:2.0
PRODID:-//ChamberMaster//Event Calendar 2.0//EN
METHOD:PUBLISH
X-PUBLISHED-TTL:P3D
REFRESH-INTERVAL:P3D
CALSCALE:GREGORIAN
BEGIN:VEVENT
DTSTART:20250212T193000Z
DTEND:20250212T210000Z
X-MICROSOFT-CDO-ALLDAYEVENT:FALSE
SUMMARY:Chew & Chat
DESCRIPTION:Monthly Ambassador Chew & Chat
X-ALT-DESC;FMTTYPE=text/html:Monthly Ambassador Chew &amp\; Chat
LOCATION:Pietros 317 East Kettleman Lane
UID:e.2050.5448
SEQUENCE:3
DTSTAMP:20260420T113750Z
URL:https://business.lodichamber.com/events/details/chew-chat-09-04-2024-5448
END:VEVENT

END:VCALENDAR
