BEGIN:VCALENDAR
VERSION:2.0
PRODID:-//ChamberMaster//Event Calendar 2.0//EN
METHOD:PUBLISH
X-PUBLISHED-TTL:P3D
REFRESH-INTERVAL:P3D
CALSCALE:GREGORIAN
BEGIN:VEVENT
DTSTART:20261007T183000Z
DTEND:20261007T200000Z
X-MICROSOFT-CDO-ALLDAYEVENT:FALSE
SUMMARY:Chew & Chat
DESCRIPTION:
X-ALT-DESC;FMTTYPE=text/html:
LOCATION:(PLEASE NOTE: Locations may change. Follow the Lodi Chamber Ambassadors Facebook page for updates each month.)
UID:e.2050.4369
SEQUENCE:3
DTSTAMP:20260421T063246Z
URL:https://business.lodichamber.com/events/details/chew-chat-10-07-2026-4369
END:VEVENT

END:VCALENDAR
