BEGIN:VCALENDAR
VERSION:2.0
PRODID:-//ChamberMaster//Event Calendar 2.0//EN
METHOD:PUBLISH
X-PUBLISHED-TTL:P3D
REFRESH-INTERVAL:P3D
CALSCALE:GREGORIAN
BEGIN:VEVENT
DTSTART:20260506T183000Z
DTEND:20260506T200000Z
X-MICROSOFT-CDO-ALLDAYEVENT:FALSE
SUMMARY:Chew & Chat - Hollywood Cafe
DESCRIPTION:Join Us for Our Monthly Business Networking Event @  Fuego Prime\n\nWe invite you to our upcoming "Chew & Chat\," a valuable monthly opportunity designed to foster professional connections and facilitate the exchange of vital business updates. Make new connections and friends. \n\n\n\nPlease feel free to bring your co-workers\, employees\, or friends who are interested in expanding their professional circle.\n\nWe look forward to seeing you there for a productive and enjoyable lunch!\n\n\n\nKey Objectives of the Event\n\n\n	Information Sharing: Present and receive new developments and insights regarding your business or industry. We encourage all attendees to come prepared to briefly share one key update.\n	Networking: Expand your professional network by meeting new contacts and reconnecting with colleagues.\n	Community Building: Enjoy a relaxed meal with peers in a new\, exciting venue.
X-ALT-DESC;FMTTYPE=text/html:<p style="box-sizing: border-box\; margin: 0px 0px 1rem\; color: rgb(51\, 51\, 51)\; font-family: Montserrat\, sans-serif\; font-size: 16px\; background-color: rgb(255\, 255\, 255)\;"><span style="box-sizing: border-box\;"><span style="box-sizing: border-box\; font-size: 14px\;"><span font-size:="" style="box-sizing: border-box\; font-weight: bolder\;" trebuchet=""><span style="box-sizing: border-box\; font-family: arial\, sans-serif\;"><span style="box-sizing: border-box\; font-size: 16px\;">Join Us for Our Monthly Business Networking Event @&nbsp\;</span>&nbsp\;Fuego Prime</span></span></span><br font-size:="" style="box-sizing: border-box\;" trebuchet="" />\n<span style="box-sizing: border-box\; font-family: arial\, sans-serif\;">We invite you to our upcoming&nbsp\;<span style="box-sizing: border-box\; font-weight: bolder\;">&quot\;Chew &amp\; Chat\,&quot\;</span>&nbsp\;a valuable monthly opportunity designed to foster professional connections and facilitate the exchange of vital business updates. Make new connections and friends.&nbsp\;</span><br font-size:="" style="box-sizing: border-box\;" trebuchet="" />\n<br font-size:="" style="box-sizing: border-box\;" trebuchet="" />\n<span style="box-sizing: border-box\; font-family: arial\, sans-serif\;">Please feel free to bring your co-workers\, employees\, or friends who are interested in expanding their professional circle.</span><br font-size:="" style="box-sizing: border-box\;" trebuchet="" />\n<span style="box-sizing: border-box\; font-family: arial\, sans-serif\;">We look forward to seeing you there for a productive and enjoyable lunch!</span><br font-size:="" style="box-sizing: border-box\;" trebuchet="" />\n<br font-size:="" style="box-sizing: border-box\;" trebuchet="" />\n<span font-size:="" style="box-sizing: border-box\; font-weight: bolder\;" trebuchet=""><span style="box-sizing: border-box\; font-family: arial\, sans-serif\;">Key Objectives of the Event</span></span></span></p>\n\n<ul font-size:="" style="box-sizing: border-box\; margin-top: 0px\; margin-bottom: 1rem\; color: rgb(51\, 51\, 51)\; font-family: Montserrat\, sans-serif\; font-size: 16px\; background-color: rgb(255\, 255\, 255)\;" trebuchet="">\n	<li style="box-sizing: border-box\; margin: 0px\; line-height: normal\;"><span style="box-sizing: border-box\;"><span style="box-sizing: border-box\; font-weight: bolder\;"><span style="box-sizing: border-box\; font-family: arial\, sans-serif\;">Information Sharing:</span></span><span style="box-sizing: border-box\; font-family: arial\, sans-serif\;">&nbsp\;Present and receive new developments and insights regarding your business or industry. We encourage all attendees to come prepared to briefly share&nbsp\;<span style="box-sizing: border-box\; font-weight: bolder\;">one key update</span>.</span></span></li>\n	<li style="box-sizing: border-box\; margin: 0px\; line-height: normal\;"><span style="box-sizing: border-box\;"><span style="box-sizing: border-box\; font-weight: bolder\;"><span style="box-sizing: border-box\; font-family: arial\, sans-serif\;">Networking:</span></span><span style="box-sizing: border-box\; font-family: arial\, sans-serif\;">&nbsp\;Expand your professional network by meeting new contacts and reconnecting with colleagues.</span></span></li>\n	<li style="box-sizing: border-box\; margin: 0px\; line-height: normal\;"><span style="box-sizing: border-box\;"><span style="box-sizing: border-box\; font-weight: bolder\;"><span style="box-sizing: border-box\; font-family: arial\, sans-serif\;">Community Building:</span></span><span style="box-sizing: border-box\; font-family: arial\, sans-serif\;">&nbsp\;Enjoy a relaxed meal with peers in a new\, exciting venue.</span></span></li>\n</ul>\n
LOCATION:(PLEASE NOTE: Location Where: Hollywood Cafe Date: Wednesday\, May 6th 2026 Time: 11:30 AM 1:00 PM Location: 315 S Cherokee Lane RSVP Deadline: Monday\, 4th Locations may change. Follow the Lodi Chamber Ambassadors Facebook page for updates each month.) ns may change.
UID:e.2050.4364
SEQUENCE:3
DTSTAMP:20260422T205321Z
URL:https://business.lodichamber.com/events/details/chew-chat-hollywood-cafe-4364
END:VEVENT

END:VCALENDAR
