BEGIN:VCALENDAR
VERSION:2.0
PRODID:-//ChamberMaster//Event Calendar 2.0//EN
METHOD:PUBLISH
X-PUBLISHED-TTL:P3D
REFRESH-INTERVAL:P3D
CALSCALE:GREGORIAN
BEGIN:VEVENT
DTSTART:20150620T210000Z
DTEND:20150620T230000Z
X-MICROSOFT-CDO-ALLDAYEVENT:FALSE
SUMMARY:Cinderella the Ballet
DESCRIPTION:The classic fairytale comes to life through dance and music. Don't miss this timeless tale performed by The Lodi Youth Ballet under the direction of Judy Pittman. Two show 2:00 PM & 7:00 PM
X-ALT-DESC;FMTTYPE=text/html:The classic fairytale comes to life through dance and music. Don&#39\;t miss this timeless tale performed by The Lodi Youth Ballet under the direction of Judy Pittman. Two show 2:00 PM &amp\; 7:00 PM
LOCATION:Hutchins Street Square 125 S. Hutchins St. Lodi\, CA 95240
UID:e.2050.436
SEQUENCE:3
DTSTAMP:20260421T004108Z
URL:https://business.lodichamber.com/events/details/cinderella-the-ballet-06-20-2015-436
END:VEVENT

END:VCALENDAR
