BEGIN:VCALENDAR
VERSION:2.0
PRODID:-//ChamberMaster//Event Calendar 2.0//EN
METHOD:PUBLISH
X-PUBLISHED-TTL:P3D
REFRESH-INTERVAL:P3D
CALSCALE:GREGORIAN
BEGIN:VEVENT
DTSTART:20140412T150000Z
DTEND:20140412T210000Z
X-MICROSOFT-CDO-ALLDAYEVENT:FALSE
SUMMARY:Cindy for Cindy -Ovarian Cancer Awareness Fundraiser
DESCRIPTION:"Cindy for Cindy" is a fundraiser for Ovarian Cancer Awareness. Registration is $35 till 3/31\, which will entitle you to participation in event\, Event T-Shirt and a BBQ. The participation in the event will be a benchmark CrossFit Workout of the Day called Cindy - 10 min AMRAP of 5 Pull Ups (bands are available)\, 10 Push Ups & 15 Air Squats. Assistance and modification for all these workouts are available for those that need it. This is a great time for new beginners to try out CrossFit and do it for a great cause! Come hang with the CrossFit community and get to know them! There will be food\, drinks\, music\, raffle items\, vendors and much more! You do not have to participate you can come watch it and t-shirts are available for sale online!
X-ALT-DESC;FMTTYPE=text/html:&quot\;Cindy for Cindy&quot\; is a fundraiser for Ovarian Cancer Awareness. Registration is $35 till 3/31\, which will entitle you to participation in event\, Event T-Shirt and a BBQ. The participation in the event will be a benchmark CrossFit Workout of the Day called Cindy - 10 min AMRAP of 5 Pull Ups (bands are available)\, 10 Push Ups &amp\; 15 Air Squats. Assistance and modification for all these workouts are available for those that need it. This is a great time for new beginners to try out CrossFit and do it for a great cause! Come hang with the CrossFit community and get to know them! There will be food\, drinks\, music\, raffle items\, vendors and much more! You do not have to participate you can come watch it and t-shirts are available for sale online!
LOCATION:Another Level CrossFit\, 1205 East Vine Street Lodi CA 95240
UID:e.2050.233
SEQUENCE:3
DTSTAMP:20260421T205444Z
URL:https://business.lodichamber.com/events/details/cindy-for-cindy-ovarian-cancer-awareness-fundraiser-04-12-2014-233
END:VEVENT

END:VCALENDAR
