BEGIN:VCALENDAR
VERSION:2.0
PRODID:-//ChamberMaster//Event Calendar 2.0//EN
METHOD:PUBLISH
X-PUBLISHED-TTL:P3D
REFRESH-INTERVAL:P3D
CALSCALE:GREGORIAN
BEGIN:VEVENT
DTSTART:20150706T160000Z
DTEND:20150710T210000Z
X-MICROSOFT-CDO-ALLDAYEVENT:FALSE
SUMMARY:Circuit Science Camp
DESCRIPTION:Come and learn how to unlock shocking mysteries with the World of Wonder Circuit Science Camp. Camp is for ages 7-12\, Monday through Friday from 9AM-2PM. Healthy snacks are included. $190 WOW MEMBERS $220 Non-Members
X-ALT-DESC;FMTTYPE=text/html:Come and learn how to unlock shocking mysteries with the World of Wonder Circuit Science Camp. Camp is for ages 7-12\, Monday through Friday from 9AM-2PM. Healthy snacks are included. $190 WOW MEMBERS $220 Non-Members
LOCATION:World of Wonders Science Museum 2 N. Sacramento St. Lodi\, CA 95240
UID:e.2050.440
SEQUENCE:3
DTSTAMP:20260421T083258Z
URL:https://business.lodichamber.com/events/details/circuit-science-camp-07-06-2015-440
END:VEVENT

END:VCALENDAR
