BEGIN:VCALENDAR
VERSION:2.0
PRODID:-//ChamberMaster//Event Calendar 2.0//EN
METHOD:PUBLISH
X-PUBLISHED-TTL:P3D
REFRESH-INTERVAL:P3D
CALSCALE:GREGORIAN
BEGIN:VEVENT
DTSTART:20151021T160000Z
DTEND:20151021T170000Z
X-MICROSOFT-CDO-ALLDAYEVENT:FALSE
SUMMARY:Club Z Ribbon Cutting
DESCRIPTION:Join us right after the Ambassador Committee Meeting for Club Z's Ribbon Cutting. We are very excited to welcome them into the Chamber Family!
X-ALT-DESC;FMTTYPE=text/html:Join us right after the Ambassador Committee Meeting for Club Z&#39\;s Ribbon Cutting. We are very excited to welcome them into the Chamber Family!
LOCATION:35 S. School Street
UID:e.2050.922
SEQUENCE:3
DTSTAMP:20260420T202917Z
URL:https://business.lodichamber.com/events/details/club-z-ribbon-cutting-10-21-2015-922
END:VEVENT

END:VCALENDAR
