BEGIN:VCALENDAR
VERSION:2.0
PRODID:-//ChamberMaster//Event Calendar 2.0//EN
METHOD:PUBLISH
X-PUBLISHED-TTL:P3D
REFRESH-INTERVAL:P3D
CALSCALE:GREGORIAN
BEGIN:VEVENT
DTSTART:20260321T030000Z
DTEND:20260321T050000Z
X-MICROSOFT-CDO-ALLDAYEVENT:FALSE
SUMMARY:Comedy at the Square
DESCRIPTION:Ready for a night packed with nonstop laughs! Join us for an unforgettable comedy show featuring Saul Trujillo\, Rhonda Ramone\, and Marcus Perverill. Hosted by Connor Martin. Grab your friends\, secure your seats\, and prepare to laugh out loud all night long!
X-ALT-DESC;FMTTYPE=text/html:Ready for a night packed with nonstop laughs! Join us for an unforgettable comedy show featuring Saul Trujillo\, Rhonda Ramone\, and Marcus Perverill. Hosted by Connor Martin. Grab your friends\, secure your seats\, and prepare to laugh out loud all night long!
LOCATION:Hutchins Street Square
UID:e.2050.6305
SEQUENCE:3
DTSTAMP:20260420T162213Z
URL:https://business.lodichamber.com/events/details/comedy-at-the-square-6305
END:VEVENT

END:VCALENDAR
