BEGIN:VCALENDAR
VERSION:2.0
PRODID:-//ChamberMaster//Event Calendar 2.0//EN
METHOD:PUBLISH
X-PUBLISHED-TTL:P3D
REFRESH-INTERVAL:P3D
CALSCALE:GREGORIAN
BEGIN:VEVENT
DTSTART:20151003T010000Z
DTEND:20151003T060000Z
X-MICROSOFT-CDO-ALLDAYEVENT:FALSE
SUMMARY:Community Center for the Blind and Visually Impaired 16th Annual Lobster Dinner
DESCRIPTION:Community Center for the Blind and Visually Impaired will host its 16th annual lobster dinner on Friday\, October 2\, 2015. The event supports programs for people throughout San Joaquin County who are blind or visually impaired. Enjoy a no-host bar at 6:00 p.m.\, dinner at 7:30 p.m.\, and dancing from 9:00 p.m. to 11:00 p.m. Tickets cost $80.00 per person and include lobster flown fresh from Maine\, wine\, antipasti\, salad\, Italian green beans\, roasted potatoes\, and dessert. Door prizes\, raffles\, and silent auction add to the fun. Purchase tickets securely online at http://www.communitycenterfortheblind.org/lobsterdinner. Or\, call Jennifer Whitehouse at (209) 466-3836\, extension 202.
X-ALT-DESC;FMTTYPE=text/html:Community Center for the Blind and Visually Impaired will host its 16th annual lobster dinner on Friday\, October 2\, 2015. The event supports programs for people throughout San Joaquin County who are blind or visually impaired. Enjoy a no-host bar at 6:00 p.m.\, dinner at 7:30 p.m.\, and dancing from 9:00 p.m. to 11:00 p.m. Tickets cost $80.00 per person and include lobster flown fresh from Maine\, wine\, antipasti\, salad\, Italian green beans\, roasted potatoes\, and dessert. Door prizes\, raffles\, and silent auction add to the fun. Purchase tickets securely online at http://www.communitycenterfortheblind.org/lobsterdinner. Or\, call Jennifer Whitehouse at (209) 466-3836\, extension 202.
LOCATION:Waterloo Gun and Bocce 4343 North Ashley Lane Stockton\, California 95215
UID:e.2050.892
SEQUENCE:3
DTSTAMP:20260420T190259Z
URL:https://business.lodichamber.com/events/details/community-center-for-the-blind-and-visually-impaired-16th-annual-lobster-dinner-10-02-2015-892
END:VEVENT

END:VCALENDAR
