BEGIN:VCALENDAR
VERSION:2.0
PRODID:-//ChamberMaster//Event Calendar 2.0//EN
METHOD:PUBLISH
X-PUBLISHED-TTL:P3D
REFRESH-INTERVAL:P3D
CALSCALE:GREGORIAN
BEGIN:VEVENT
DTSTART:20160117T020000Z
DTEND:20160117T060000Z
X-MICROSOFT-CDO-ALLDAYEVENT:FALSE
SUMMARY:Community Center for the Blind Annual Crab Feed
DESCRIPTION:Community Center for the Blind and Visually Impaired will host its ninth annual crab feed on January 16\, 2016. A no-host bar will open at 6:00 p.m.\, followed by dinner at 7:00 p.m. Door\, raffle\, and silent auction items will add to the evening's festivities. Tickets cost $45.00 per person. Proceeds provide specialized programs and services to people whose vision loss impedes their ability to perform tasks of daily living. The agency has been lighting paths to independent living throughout San Joaquin County since 1949.
X-ALT-DESC;FMTTYPE=text/html:Community Center for the Blind and Visually Impaired will host its ninth annual crab feed on January 16\, 2016. A no-host bar will open at 6:00 p.m.\, followed by dinner at 7:00 p.m. Door\, raffle\, and silent auction items will add to the evening&#39\;s festivities. Tickets cost $45.00 per person. Proceeds provide specialized programs and services to people whose vision loss impedes their ability to perform tasks of daily living. The agency has been lighting paths to independent living throughout San Joaquin County since 1949.
LOCATION:Waterloo Gun and Bocce 4343 North Ashley Lane Stockton\, California
UID:e.2050.930
SEQUENCE:3
DTSTAMP:20260420T143535Z
URL:https://business.lodichamber.com/events/details/community-center-for-the-blind-annual-crab-feed-01-16-2016-930
END:VEVENT

END:VCALENDAR
