BEGIN:VCALENDAR
VERSION:2.0
PRODID:-//ChamberMaster//Event Calendar 2.0//EN
METHOD:PUBLISH
X-PUBLISHED-TTL:P3D
REFRESH-INTERVAL:P3D
CALSCALE:GREGORIAN
BEGIN:VEVENT
DTSTART:20141004T010000Z
DTEND:20141004T050000Z
X-MICROSOFT-CDO-ALLDAYEVENT:FALSE
SUMMARY:Community Center for the Blind Lobster Dinner
DESCRIPTION:Community Center for the Blind invites the public to its 15th annual lobster dinner. Proceeds benefit specialized programs and services to enable people in the greater San Joaquin County area who are blind and visually impaired to perform tasks of daily living to remain independent. The agency is celebrating its 65th year of service to the Lodi community.
X-ALT-DESC;FMTTYPE=text/html:Community Center for the Blind invites the public to its 15th annual lobster dinner. Proceeds benefit specialized programs and services to enable people in the greater San Joaquin County area who are blind and visually impaired to perform tasks of daily living to remain independent. The agency is celebrating its 65th year of service to the Lodi community.
LOCATION:Waterloo Gun and Bocce\, 4343 North Ashley Lane\, Stockton
UID:e.2050.286
SEQUENCE:3
DTSTAMP:20260421T114332Z
URL:https://business.lodichamber.com/events/details/community-center-for-the-blind-lobster-dinner-10-03-2014-286
END:VEVENT

END:VCALENDAR
