BEGIN:VCALENDAR
VERSION:2.0
PRODID:-//ChamberMaster//Event Calendar 2.0//EN
METHOD:PUBLISH
X-PUBLISHED-TTL:P3D
REFRESH-INTERVAL:P3D
CALSCALE:GREGORIAN
BEGIN:VEVENT
DTSTART:20150604T003000Z
DTEND:20150604T020000Z
X-MICROSOFT-CDO-ALLDAYEVENT:FALSE
SUMMARY:Creative Consignment Ribbon Cutting
DESCRIPTION:Join us in celebrating Creative Consignment's Ribbon Cutting
X-ALT-DESC;FMTTYPE=text/html:Join us in celebrating Creative Consignment&#39\;s Ribbon Cutting
LOCATION:730 W. Lodi Ave
UID:e.2050.836
SEQUENCE:3
DTSTAMP:20260421T004009Z
URL:https://business.lodichamber.com/events/details/creative-consignment-ribbon-cutting-06-03-2015-836
END:VEVENT

END:VCALENDAR
