BEGIN:VCALENDAR
VERSION:2.0
PRODID:-//ChamberMaster//Event Calendar 2.0//EN
METHOD:PUBLISH
X-PUBLISHED-TTL:P3D
REFRESH-INTERVAL:P3D
CALSCALE:GREGORIAN
BEGIN:VEVENT
DTSTART:20150502T180000Z
DTEND:20150726T220000Z
X-MICROSOFT-CDO-ALLDAYEVENT:FALSE
SUMMARY:Critter Corral at the Museum in Micke Grove Park
DESCRIPTION:Visit and pet a variety of live farm animals every weekend this May through July at the San Joaquin County Historical Museum in Micke Grove Regional Park. Encounters with the Critter Corral animals are free with regular Museum admission\, Saturdays and Sundays from 10 a.m. to 3 p.m.\, from May 2 through July 26\; except for July 4 and in case of significant rain.
X-ALT-DESC;FMTTYPE=text/html:Visit and pet a variety of live farm animals every weekend this May through July at the San Joaquin County Historical Museum in Micke Grove Regional Park. Encounters with the Critter Corral animals are free with regular Museum admission\, Saturdays and Sundays from 10 a.m. to 3 p.m.\, from May 2 through July 26\; except for July 4 and in case of significant rain.
LOCATION:San Joaquin County Historical Museum\, Micke Grove Regional Park\, 11793 N. Micke Grove Rd.\, Lodi 95240
UID:e.2050.432
SEQUENCE:3
DTSTAMP:20260420T232233Z
URL:https://business.lodichamber.com/events/details/critter-corral-at-the-museum-in-micke-grove-park-05-02-2015-432
END:VEVENT

END:VCALENDAR
